Package: PPInfer Version: 1.30.0 Command: /home/biocbuild/R/R-beta-2024-04-15_r86425/bin/R CMD INSTALL PPInfer StartedAt: 2024-05-08 20:51:53 -0000 (Wed, 08 May 2024) EndedAt: 2024-05-08 20:52:24 -0000 (Wed, 08 May 2024) EllapsedTime: 31.2 seconds RetCode: 0 Status: OK