Package: PPInfer Version: 1.30.0 Command: /Library/Frameworks/R.framework/Resources/bin/R CMD INSTALL PPInfer StartedAt: 2024-10-16 18:04:30 -0400 (Wed, 16 Oct 2024) EndedAt: 2024-10-16 18:04:57 -0400 (Wed, 16 Oct 2024) EllapsedTime: 27.9 seconds RetCode: 0 Status: OK