Package: POWSC Version: 1.12.0 Command: /home/biocbuild/bbs-3.19-bioc/R/bin/R CMD build --keep-empty-dirs --no-resave-data POWSC StartedAt: 2024-10-16 20:10:48 -0400 (Wed, 16 Oct 2024) EndedAt: 2024-10-16 20:12:04 -0400 (Wed, 16 Oct 2024) EllapsedTime: 76.2 seconds RetCode: 0 Status: OK PackageFile: POWSC_1.12.0.tar.gz PackageFileSize: 1.127 MiB