Package: POMA Version: 1.14.0 Command: /Library/Frameworks/R.framework/Resources/bin/R CMD check --install=check:POMA.install-out.txt --library=/Library/Frameworks/R.framework/Resources/library --no-vignettes --timings POMA_1.14.0.tar.gz StartedAt: 2024-10-17 10:59:59 -0400 (Thu, 17 Oct 2024) EndedAt: 2024-10-17 11:10:00 -0400 (Thu, 17 Oct 2024) EllapsedTime: 601.1 seconds RetCode: 0 Status: OK CheckDir: POMA.Rcheck Warnings: 0