Package: POMA Version: 1.14.0 Command: /Library/Frameworks/R.framework/Resources/bin/R CMD check --install=check:POMA.install-out.txt --library=/Library/Frameworks/R.framework/Resources/library --no-vignettes --timings POMA_1.14.0.tar.gz StartedAt: 2024-06-09 22:16:42 -0400 (Sun, 09 Jun 2024) EndedAt: 2024-06-09 22:21:02 -0400 (Sun, 09 Jun 2024) EllapsedTime: 259.2 seconds RetCode: 0 Status: OK CheckDir: POMA.Rcheck Warnings: 0