Package: POMA Version: 1.14.0 Command: rm -rf POMA.buildbin-libdir && mkdir POMA.buildbin-libdir && /Users/biocbuild/BBS/utils/build-universal.sh POMA_1.14.0.tar.gz /Library/Frameworks/R.framework/Resources/bin/R POMA.buildbin-libdir StartedAt: 2024-06-11 12:33:55 -0400 (Tue, 11 Jun 2024) EndedAt: 2024-06-11 12:34:04 -0400 (Tue, 11 Jun 2024) EllapsedTime: 9.7 seconds RetCode: 0 Status: OK PackageFile: POMA_1.14.0.tgz PackageFileSize: 2.282 MiB