Package: PLSDAbatch Version: 1.0.0 Command: E:\biocbuild\bbs-3.19-bioc\R\bin\R.exe CMD check --no-multiarch --install=check:PLSDAbatch.install-out.txt --library=E:\biocbuild\bbs-3.19-bioc\R\library --no-vignettes --timings PLSDAbatch_1.0.0.tar.gz StartedAt: 2024-08-26 04:19:59 -0400 (Mon, 26 Aug 2024) EndedAt: 2024-08-26 04:25:10 -0400 (Mon, 26 Aug 2024) EllapsedTime: 310.3 seconds RetCode: 0 Status: OK CheckDir: PLSDAbatch.Rcheck Warnings: 0