Package: PLSDAbatch Version: 1.0.0 Command: /home/biocbuild/bbs-3.19-bioc/R/bin/R CMD check --install=check:PLSDAbatch.install-out.txt --library=/home/biocbuild/bbs-3.19-bioc/R/site-library --timings PLSDAbatch_1.0.0.tar.gz StartedAt: 2024-08-26 02:35:06 -0400 (Mon, 26 Aug 2024) EndedAt: 2024-08-26 02:39:54 -0400 (Mon, 26 Aug 2024) EllapsedTime: 287.6 seconds RetCode: 0 Status: OK CheckDir: PLSDAbatch.Rcheck Warnings: 0