Package: PLSDAbatch Version: 1.0.0 Command: /home/biocbuild/bbs-3.19-bioc/R/bin/R CMD build --keep-empty-dirs --no-resave-data PLSDAbatch StartedAt: 2024-10-16 20:09:49 -0400 (Wed, 16 Oct 2024) EndedAt: 2024-10-16 20:11:04 -0400 (Wed, 16 Oct 2024) EllapsedTime: 75.1 seconds RetCode: 1 Status: ERROR PackageFile: None PackageFileSize: NA