Package: PLSDAbatch Version: 1.0.0 Command: /Library/Frameworks/R.framework/Resources/bin/R CMD check --install=check:PLSDAbatch.install-out.txt --library=/Library/Frameworks/R.framework/Resources/library --no-vignettes --timings PLSDAbatch_1.0.0.tar.gz StartedAt: 2024-08-26 10:01:25 -0400 (Mon, 26 Aug 2024) EndedAt: 2024-08-26 10:11:50 -0400 (Mon, 26 Aug 2024) EllapsedTime: 624.7 seconds RetCode: 0 Status: OK CheckDir: PLSDAbatch.Rcheck Warnings: 0