Package: PLSDAbatch Version: 1.0.0 Command: /Library/Frameworks/R.framework/Resources/bin/R CMD build --keep-empty-dirs --no-resave-data PLSDAbatch StartedAt: 2024-10-16 22:08:47 -0400 (Wed, 16 Oct 2024) EndedAt: 2024-10-16 22:12:02 -0400 (Wed, 16 Oct 2024) EllapsedTime: 195.3 seconds RetCode: 1 Status: ERROR PackageFile: None PackageFileSize: NA