Package: PLSDAbatch Version: 1.0.0 Command: rm -rf PLSDAbatch.buildbin-libdir && mkdir PLSDAbatch.buildbin-libdir && /Users/biocbuild/BBS/utils/build-universal.sh PLSDAbatch_1.0.0.tar.gz /Library/Frameworks/R.framework/Resources/bin/R PLSDAbatch.buildbin-libdir StartedAt: 2024-08-20 17:22:37 -0400 (Tue, 20 Aug 2024) EndedAt: 2024-08-20 17:23:21 -0400 (Tue, 20 Aug 2024) EllapsedTime: 44.1 seconds RetCode: 0 Status: OK PackageFile: PLSDAbatch_1.0.0.tgz PackageFileSize: 1.749 MiB