Package: PLPE Version: 1.64.0 Command: rm -rf PLPE.buildbin-libdir && mkdir PLPE.buildbin-libdir && E:\biocbuild\bbs-3.19-bioc\R\bin\R.exe CMD INSTALL --build --library=PLPE.buildbin-libdir PLPE_1.64.0.tar.gz StartedAt: 2024-10-17 08:21:53 -0400 (Thu, 17 Oct 2024) EndedAt: 2024-10-17 08:22:05 -0400 (Thu, 17 Oct 2024) EllapsedTime: 11.7 seconds RetCode: 0 Status: OK PackageFile: PLPE_1.64.0.zip PackageFileSize: 198.7 KiB