Package: PLPE Version: 1.64.0 Command: /home/biocbuild/bbs-3.19-bioc/R/bin/R CMD check --install=check:PLPE.install-out.txt --library=/home/biocbuild/bbs-3.19-bioc/R/site-library --timings PLPE_1.64.0.tar.gz StartedAt: 2024-10-17 03:48:52 -0400 (Thu, 17 Oct 2024) EndedAt: 2024-10-17 03:49:20 -0400 (Thu, 17 Oct 2024) EllapsedTime: 28.1 seconds RetCode: 0 Status: OK CheckDir: PLPE.Rcheck Warnings: 0