Package: PLPE Version: 1.64.0 Command: /Library/Frameworks/R.framework/Resources/bin/R CMD INSTALL PLPE StartedAt: 2024-10-16 15:07:18 -0400 (Wed, 16 Oct 2024) EndedAt: 2024-10-16 15:07:44 -0400 (Wed, 16 Oct 2024) EllapsedTime: 26.4 seconds RetCode: 0 Status: OK