Package: PLPE Version: 1.64.0 Command: /home/biocbuild/R/R-beta-2024-04-15_r86425/bin/R CMD INSTALL PLPE StartedAt: 2024-05-08 20:03:45 -0000 (Wed, 08 May 2024) EndedAt: 2024-05-08 20:04:17 -0000 (Wed, 08 May 2024) EllapsedTime: 31.9 seconds RetCode: 0 Status: OK