Package: PLPE Version: 1.64.0 Command: /home/biocbuild/R/R-beta-2024-04-15_r86425/bin/R CMD build --keep-empty-dirs --no-resave-data PLPE StartedAt: 2024-05-09 02:32:38 -0000 (Thu, 09 May 2024) EndedAt: 2024-05-09 02:32:46 -0000 (Thu, 09 May 2024) EllapsedTime: 8.0 seconds RetCode: 0 Status: OK PackageFile: PLPE_1.64.0.tar.gz PackageFileSize: 252.7 KiB