Package: PLPE Version: 1.64.0 Command: /Library/Frameworks/R.framework/Resources/bin/R CMD check --install=check:PLPE.install-out.txt --library=/Library/Frameworks/R.framework/Resources/library --no-vignettes --timings PLPE_1.64.0.tar.gz StartedAt: 2024-10-18 07:38:40 -0400 (Fri, 18 Oct 2024) EndedAt: 2024-10-18 07:39:17 -0400 (Fri, 18 Oct 2024) EllapsedTime: 37.2 seconds RetCode: 0 Status: OK CheckDir: PLPE.Rcheck Warnings: 0