Package: PLPE Version: 1.64.0 Command: rm -rf PLPE.buildbin-libdir && mkdir PLPE.buildbin-libdir && /Users/biocbuild/BBS/utils/build-universal.sh PLPE_1.64.0.tar.gz /Library/Frameworks/R.framework/Resources/bin/R PLPE.buildbin-libdir StartedAt: 2024-10-18 19:58:36 -0400 (Fri, 18 Oct 2024) EndedAt: 2024-10-18 19:58:43 -0400 (Fri, 18 Oct 2024) EllapsedTime: 6.8 seconds RetCode: 0 Status: OK PackageFile: PLPE_1.64.0.tgz PackageFileSize: 301.2 KiB