Package: PLPE Version: 1.64.0 Maintainer: Soo-heang Eo MaintainerEmail: hanansh at korea.ac.kr git_url: https://git.bioconductor.org/packages/PLPE git_branch: RELEASE_3_19 git_last_commit: ac046ee git_last_commit_date: 2024-04-30 10:18:37 -0400 (Tue, 30 Apr 2024)