Package: PIUMA Version: 1.0.0 Command: chmod a+r PIUMA -R && F:\biocbuild\bbs-3.19-bioc\R\bin\R.exe CMD build --keep-empty-dirs --no-resave-data PIUMA StartedAt: 2024-06-26 21:00:18 -0400 (Wed, 26 Jun 2024) EndedAt: 2024-06-26 21:02:26 -0400 (Wed, 26 Jun 2024) EllapsedTime: 127.6 seconds RetCode: 0 Status: OK PackageFile: PIUMA_1.0.0.tar.gz PackageFileSize: 3.665 MiB