Package: PIUMA Version: 1.0.0 Command: rm -rf PIUMA.buildbin-libdir && mkdir PIUMA.buildbin-libdir && F:\biocbuild\bbs-3.19-bioc\R\bin\R.exe CMD INSTALL --build --library=PIUMA.buildbin-libdir PIUMA_1.0.0.tar.gz StartedAt: 2024-06-27 08:40:48 -0400 (Thu, 27 Jun 2024) EndedAt: 2024-06-27 08:41:39 -0400 (Thu, 27 Jun 2024) EllapsedTime: 51.2 seconds RetCode: 0 Status: OK PackageFile: PIUMA_1.0.0.zip PackageFileSize: 2.779 MiB