Package: PIUMA Version: 1.0.0 Command: /Library/Frameworks/R.framework/Resources/bin/R CMD check --install=check:PIUMA.install-out.txt --library=/Library/Frameworks/R.framework/Resources/library --no-vignettes --timings PIUMA_1.0.0.tar.gz StartedAt: 2024-06-09 22:14:34 -0400 (Sun, 09 Jun 2024) EndedAt: 2024-06-09 22:18:29 -0400 (Sun, 09 Jun 2024) EllapsedTime: 235.6 seconds RetCode: 0 Status: OK CheckDir: PIUMA.Rcheck Warnings: 0