Package: PIUMA Version: 1.0.0 Command: rm -rf PIUMA.buildbin-libdir && mkdir PIUMA.buildbin-libdir && /Users/biocbuild/BBS/utils/build-universal.sh PIUMA_1.0.0.tar.gz /Library/Frameworks/R.framework/Resources/bin/R PIUMA.buildbin-libdir StartedAt: 2024-06-10 00:32:18 -0400 (Mon, 10 Jun 2024) EndedAt: 2024-06-10 00:32:58 -0400 (Mon, 10 Jun 2024) EllapsedTime: 40.9 seconds RetCode: 0 Status: OK PackageFile: PIUMA_1.0.0.tgz PackageFileSize: 3.178 MiB