Package: PIUMA Version: 1.0.0 Command: /Library/Frameworks/R.framework/Resources/bin/R CMD INSTALL PIUMA StartedAt: 2024-10-16 17:19:46 -0400 (Wed, 16 Oct 2024) EndedAt: 2024-10-16 17:20:19 -0400 (Wed, 16 Oct 2024) EllapsedTime: 33.2 seconds RetCode: 0 Status: OK