Package: PIPETS Version: 1.0.3 Command: E:\biocbuild\bbs-3.19-bioc\R\bin\R.exe CMD INSTALL PIPETS StartedAt: 2024-10-16 16:16:13 -0400 (Wed, 16 Oct 2024) EndedAt: 2024-10-16 16:16:26 -0400 (Wed, 16 Oct 2024) EllapsedTime: 13.4 seconds RetCode: 0 Status: OK