Package: PIPETS Version: 1.0.3 Command: E:\biocbuild\bbs-3.19-bioc\R\bin\R.exe CMD check --no-multiarch --install=check:PIPETS.install-out.txt --library=E:\biocbuild\bbs-3.19-bioc\R\library --no-vignettes --timings PIPETS_1.0.3.tar.gz StartedAt: 2024-10-17 04:29:23 -0400 (Thu, 17 Oct 2024) EndedAt: 2024-10-17 04:30:58 -0400 (Thu, 17 Oct 2024) EllapsedTime: 94.3 seconds RetCode: 0 Status: OK CheckDir: PIPETS.Rcheck Warnings: 0