Package: PIPETS Version: 1.0.3 Command: chmod a+r PIPETS -R && E:\biocbuild\bbs-3.19-bioc\R\bin\R.exe CMD build --keep-empty-dirs --no-resave-data PIPETS StartedAt: 2024-10-16 21:07:53 -0400 (Wed, 16 Oct 2024) EndedAt: 2024-10-16 21:08:18 -0400 (Wed, 16 Oct 2024) EllapsedTime: 25.1 seconds RetCode: 0 Status: OK PackageFile: PIPETS_1.0.3.tar.gz PackageFileSize: 2.881 MiB