Package: PIPETS Version: 1.0.3 Command: rm -rf PIPETS.buildbin-libdir && mkdir PIPETS.buildbin-libdir && E:\biocbuild\bbs-3.19-bioc\R\bin\R.exe CMD INSTALL --build --library=PIPETS.buildbin-libdir PIPETS_1.0.3.tar.gz StartedAt: 2024-10-17 08:21:32 -0400 (Thu, 17 Oct 2024) EndedAt: 2024-10-17 08:21:46 -0400 (Thu, 17 Oct 2024) EllapsedTime: 13.9 seconds RetCode: 0 Status: OK PackageFile: PIPETS_1.0.3.zip PackageFileSize: 1.304 MiB