Package: PIPETS Version: 1.0.3 Command: /home/biocbuild/bbs-3.19-bioc/R/bin/R CMD INSTALL PIPETS StartedAt: 2024-10-16 15:56:54 -0400 (Wed, 16 Oct 2024) EndedAt: 2024-10-16 15:57:05 -0400 (Wed, 16 Oct 2024) EllapsedTime: 10.8 seconds RetCode: 0 Status: OK