Package: PIPETS Version: 1.0.3 Command: /home/biocbuild/bbs-3.19-bioc/R/bin/R CMD build --keep-empty-dirs --no-resave-data PIPETS StartedAt: 2024-10-16 20:09:02 -0400 (Wed, 16 Oct 2024) EndedAt: 2024-10-16 20:09:21 -0400 (Wed, 16 Oct 2024) EllapsedTime: 19.0 seconds RetCode: 0 Status: OK PackageFile: PIPETS_1.0.3.tar.gz PackageFileSize: 2.881 MiB