Package: PIPETS Version: 1.0.3 Command: /Library/Frameworks/R.framework/Resources/bin/R CMD build --keep-empty-dirs --no-resave-data PIPETS StartedAt: 2024-10-16 22:07:09 -0400 (Wed, 16 Oct 2024) EndedAt: 2024-10-16 22:08:20 -0400 (Wed, 16 Oct 2024) EllapsedTime: 70.3 seconds RetCode: 0 Status: OK PackageFile: PIPETS_1.0.3.tar.gz PackageFileSize: 2.881 MiB