Package: PIPETS Version: 1.0.0 Command: /home/biocbuild/R/R-beta-2024-04-15_r86425/bin/R CMD check --install=check:PIPETS.install-out.txt --library=/home/biocbuild/R/R-beta-2024-04-15_r86425/site-library --no-vignettes --timings PIPETS_1.0.0.tar.gz StartedAt: 2024-05-09 10:34:34 -0000 (Thu, 09 May 2024) EndedAt: 2024-05-09 10:36:11 -0000 (Thu, 09 May 2024) EllapsedTime: 97.2 seconds RetCode: 0 Status: OK CheckDir: PIPETS.Rcheck Warnings: 0