Package: PIPETS Version: 1.0.0 Command: /Library/Frameworks/R.framework/Resources/bin/R CMD build --keep-empty-dirs --no-resave-data PIPETS StartedAt: 2024-06-10 02:36:22 -0400 (Mon, 10 Jun 2024) EndedAt: 2024-06-10 02:36:54 -0400 (Mon, 10 Jun 2024) EllapsedTime: 31.8 seconds RetCode: 0 Status: OK PackageFile: PIPETS_1.0.0.tar.gz PackageFileSize: 2.881 MiB