Package: PIPETS Version: 1.0.3 Command: /Library/Frameworks/R.framework/Resources/bin/R CMD build --keep-empty-dirs --no-resave-data PIPETS StartedAt: 2024-10-17 06:29:43 -0400 (Thu, 17 Oct 2024) EndedAt: 2024-10-17 06:30:08 -0400 (Thu, 17 Oct 2024) EllapsedTime: 24.8 seconds RetCode: 0 Status: OK PackageFile: PIPETS_1.0.3.tar.gz PackageFileSize: 2.881 MiB