Package: PING Version: 2.48.0 Command: /home/biocbuild/bbs-3.19-bioc/R/bin/R CMD INSTALL PING StartedAt: 2024-10-16 16:47:41 -0400 (Wed, 16 Oct 2024) EndedAt: 2024-10-16 16:48:35 -0400 (Wed, 16 Oct 2024) EllapsedTime: 53.5 seconds RetCode: 0 Status: OK