Package: PING Version: 2.48.0 Command: /home/biocbuild/R/R-beta-2024-04-15_r86425/bin/R CMD INSTALL PING StartedAt: 2024-05-08 21:08:31 -0000 (Wed, 08 May 2024) EndedAt: 2024-05-08 21:09:47 -0000 (Wed, 08 May 2024) EllapsedTime: 75.2 seconds RetCode: 0 Status: OK