Package: PING Version: 2.48.0 Command: /home/biocbuild/R/R-beta-2024-04-15_r86425/bin/R CMD build --keep-empty-dirs --no-resave-data PING StartedAt: 2024-05-09 02:31:17 -0000 (Thu, 09 May 2024) EndedAt: 2024-05-09 02:31:19 -0000 (Thu, 09 May 2024) EllapsedTime: 2.0 seconds RetCode: 0 Status: OK PackageFile: PING_2.48.0.tar.gz PackageFileSize: 4.51 MiB