Package: PING Version: 2.48.0 Command: /Library/Frameworks/R.framework/Resources/bin/R CMD INSTALL PING StartedAt: 2024-10-16 19:02:10 -0400 (Wed, 16 Oct 2024) EndedAt: 2024-10-16 19:03:20 -0400 (Wed, 16 Oct 2024) EllapsedTime: 70.3 seconds RetCode: 0 Status: OK