Package: PICS Version: 2.48.0 Command: E:\biocbuild\bbs-3.19-bioc\R\bin\R.exe CMD INSTALL PICS StartedAt: 2024-10-16 16:23:10 -0400 (Wed, 16 Oct 2024) EndedAt: 2024-10-16 16:23:55 -0400 (Wed, 16 Oct 2024) EllapsedTime: 45.5 seconds RetCode: 0 Status: OK