Package: PICS Version: 2.48.0 Command: rm -rf PICS.buildbin-libdir && mkdir PICS.buildbin-libdir && F:\biocbuild\bbs-3.19-bioc\R\bin\R.exe CMD INSTALL --build --library=PICS.buildbin-libdir PICS_2.48.0.tar.gz StartedAt: 2024-06-27 08:40:36 -0400 (Thu, 27 Jun 2024) EndedAt: 2024-06-27 08:41:29 -0400 (Thu, 27 Jun 2024) EllapsedTime: 53.5 seconds RetCode: 0 Status: OK PackageFile: PICS_2.48.0.zip PackageFileSize: 1.476 MiB