Package: PICS Version: 2.48.0 Command: /Library/Frameworks/R.framework/Resources/bin/R CMD INSTALL PICS StartedAt: 2024-10-16 15:32:50 -0400 (Wed, 16 Oct 2024) EndedAt: 2024-10-16 15:34:02 -0400 (Wed, 16 Oct 2024) EllapsedTime: 71.6 seconds RetCode: 0 Status: OK