Package: PICS Version: 2.48.0 Command: rm -rf PICS.buildbin-libdir && mkdir PICS.buildbin-libdir && /Users/biocbuild/BBS/utils/build-universal.sh PICS_2.48.0.tar.gz /Library/Frameworks/R.framework/Resources/bin/R PICS.buildbin-libdir StartedAt: 2024-06-11 12:31:39 -0400 (Tue, 11 Jun 2024) EndedAt: 2024-06-11 12:32:58 -0400 (Tue, 11 Jun 2024) EllapsedTime: 79.0 seconds RetCode: 0 Status: OK PackageFile: PICS_2.48.0.tgz PackageFileSize: 1.551 MiB