Package: PICS Version: 2.48.0 Command: /Library/Frameworks/R.framework/Resources/bin/R CMD INSTALL PICS StartedAt: 2024-10-16 16:26:08 -0400 (Wed, 16 Oct 2024) EndedAt: 2024-10-16 16:26:48 -0400 (Wed, 16 Oct 2024) EllapsedTime: 39.5 seconds RetCode: 0 Status: OK