Package: PERFect Version: 1.18.0 Command: rm -rf PERFect.buildbin-libdir && mkdir PERFect.buildbin-libdir && E:\biocbuild\bbs-3.19-bioc\R\bin\R.exe CMD INSTALL --build --library=PERFect.buildbin-libdir PERFect_1.18.0.tar.gz StartedAt: 2024-10-17 08:20:21 -0400 (Thu, 17 Oct 2024) EndedAt: 2024-10-17 08:20:53 -0400 (Thu, 17 Oct 2024) EllapsedTime: 31.9 seconds RetCode: 0 Status: OK PackageFile: PERFect_1.18.0.zip PackageFileSize: 673.2 KiB