Package: PERFect Version: 1.18.0 Command: /home/biocbuild/bbs-3.19-bioc/R/bin/R CMD INSTALL PERFect StartedAt: 2024-10-16 16:33:19 -0400 (Wed, 16 Oct 2024) EndedAt: 2024-10-16 16:33:38 -0400 (Wed, 16 Oct 2024) EllapsedTime: 19.1 seconds RetCode: 0 Status: OK