Package: PERFect Version: 1.18.0 Command: /home/biocbuild/bbs-3.19-bioc/R/bin/R CMD build --keep-empty-dirs --no-resave-data PERFect StartedAt: 2024-10-16 20:06:44 -0400 (Wed, 16 Oct 2024) EndedAt: 2024-10-16 20:14:20 -0400 (Wed, 16 Oct 2024) EllapsedTime: 456.1 seconds RetCode: 0 Status: OK PackageFile: PERFect_1.18.0.tar.gz PackageFileSize: 708.2 KiB