Package: PERFect Version: 1.18.0 Command: /Library/Frameworks/R.framework/Resources/bin/R CMD build --keep-empty-dirs --no-resave-data PERFect StartedAt: 2024-10-17 06:20:10 -0400 (Thu, 17 Oct 2024) EndedAt: 2024-10-17 06:23:21 -0400 (Thu, 17 Oct 2024) EllapsedTime: 191.2 seconds RetCode: 0 Status: OK PackageFile: PERFect_1.18.0.tar.gz PackageFileSize: 744.7 KiB