Package: PECA Version: 1.40.0 Command: /Library/Frameworks/R.framework/Resources/bin/R CMD build --keep-empty-dirs --no-resave-data PECA StartedAt: 2024-10-16 21:59:09 -0400 (Wed, 16 Oct 2024) EndedAt: 2024-10-16 22:00:53 -0400 (Wed, 16 Oct 2024) EllapsedTime: 104.9 seconds RetCode: 0 Status: OK PackageFile: PECA_1.40.0.tar.gz PackageFileSize: 214.7 KiB