Package: PECA Version: 1.40.0 Command: /Library/Frameworks/R.framework/Resources/bin/R CMD build --keep-empty-dirs --no-resave-data PECA StartedAt: 2024-06-09 17:41:28 -0400 (Sun, 09 Jun 2024) EndedAt: 2024-06-09 17:42:14 -0400 (Sun, 09 Jun 2024) EllapsedTime: 45.9 seconds RetCode: 0 Status: OK PackageFile: PECA_1.40.0.tar.gz PackageFileSize: 213.8 KiB